BEGIN:VCALENDAR
VERSION:2.0
PRODID:-//Avenir Judo 31 - ECPv6.14.1//NONSGML v1.0//EN
CALSCALE:GREGORIAN
METHOD:PUBLISH
X-ORIGINAL-URL:http://avenirjudo31.fr
X-WR-CALDESC:Évènements pour Avenir Judo 31
REFRESH-INTERVAL;VALUE=DURATION:PT1H
X-Robots-Tag:noindex
X-PUBLISHED-TTL:PT1H
BEGIN:VTIMEZONE
TZID:Europe/Paris
BEGIN:DAYLIGHT
TZOFFSETFROM:+0100
TZOFFSETTO:+0200
TZNAME:CEST
DTSTART:20160327T010000
END:DAYLIGHT
BEGIN:STANDARD
TZOFFSETFROM:+0200
TZOFFSETTO:+0100
TZNAME:CET
DTSTART:20161030T010000
END:STANDARD
END:VTIMEZONE
BEGIN:VEVENT
DTSTART;TZID=Europe/Paris:20160224T090000
DTEND;TZID=Europe/Paris:20160225T180000
DTSTAMP:20260421T113824
CREATED:20151230T081351Z
LAST-MODIFIED:20160125T110454Z
UID:6085-1456304400-1456423200@avenirjudo31.fr
SUMMARY:Stage Interne au Club nés entre 2006 et 2010 Labastide Saint Sernin
DESCRIPTION:Programme du stage \nVous êtes conviés au stage judo qui se déroulera les mercredi 24 et jeudi 25 février 2016\, au dojo de Labastide St Sernin\, rue Le Not\, 31620 Labastide St Sernin. Il sera animé par Gérald Planchon. \nDate limite d’inscription vendredi 19 février 2016. \nEn-dessous de 14 inscrits\, AVENIR JUDO 31 se réserve le droit d’annuler le stage. \n\n09h00 à 09h30 : Accueil des stagiaires\n09h30 à 10h30 : Réveil Musculaire et PPG\n10h30 à 10h45 : Pause Jus de Fruits + viennoiseries\n10h45 à 12h30 : Judo Sol\n12h45 à 13h45 : Déjeuner sorti du sac\n14h00 à 14h30 : Temps calme\n14h45 à 16h30 : Judo Debout\n16h30 à 17h00 : Etirements\n17h00 : Gouters\n18h00 : Fin du stage\n\nRenseignements et inscriptions par mail: \ngerald.p.kodokan@hotmail.fr
URL:http://avenirjudo31.fr/event/stage-interne-au-club-nes-entre-2006-et-2010-labastide-saint-sernin/
LOCATION:Dojo Labastide Saint Sernin\, Rue Le Not\, Labastide Saint Sernin\, 31620
CATEGORIES:Baby Judo,Benjamins,Cadets,Minimes,Minis-Poussins,Poussins,Stage
END:VEVENT
END:VCALENDAR