BEGIN:VCALENDAR
VERSION:2.0
PRODID:-//Avenir Judo 31 - ECPv6.14.1//NONSGML v1.0//EN
CALSCALE:GREGORIAN
METHOD:PUBLISH
X-ORIGINAL-URL:http://avenirjudo31.fr
X-WR-CALDESC:Évènements pour Avenir Judo 31
REFRESH-INTERVAL;VALUE=DURATION:PT1H
X-Robots-Tag:noindex
X-PUBLISHED-TTL:PT1H
BEGIN:VTIMEZONE
TZID:Europe/Paris
BEGIN:DAYLIGHT
TZOFFSETFROM:+0100
TZOFFSETTO:+0200
TZNAME:CEST
DTSTART:20150329T010000
END:DAYLIGHT
BEGIN:STANDARD
TZOFFSETFROM:+0200
TZOFFSETTO:+0100
TZNAME:CET
DTSTART:20151025T010000
END:STANDARD
END:VTIMEZONE
BEGIN:VEVENT
DTSTART;TZID=Europe/Paris:20151206T090000
DTEND;TZID=Europe/Paris:20151206T180000
DTSTAMP:20260423T124007
CREATED:20151109T101000Z
LAST-MODIFIED:20151123T085714Z
UID:5751-1449392400-1449424800@avenirjudo31.fr
SUMMARY:Rencontre Amicale Fronton
DESCRIPTION:  \nPour tous
URL:http://avenirjudo31.fr/event/rencontre-amicale-fronton/
CATEGORIES:Baby Judo,Benjamins,Cadets,Minimes,Minis-Poussins,Poussins,Rencontre amicale
END:VEVENT
BEGIN:VEVENT
DTSTART;TZID=Europe/Paris:20151228T180000
DTEND;TZID=Europe/Paris:20151228T200000
DTSTAMP:20260423T124007
CREATED:20150911T123645Z
LAST-MODIFIED:20151228T195811Z
UID:5172-1451325600-1451332800@avenirjudo31.fr
SUMMARY:Préparation Physique
DESCRIPTION:Samuel / Lucie / Nicolas.A / Andréa / Juliette / Clémence / Mélanie \nNous avons eu la visite d’Alexandre Dupré 🙂 \nRDV au gymnase du collège de l’Hers!! \nMerci de signaler votre présence par MAIL à Gérald au plus tard la veille. \ngerald.p.kodokan@hotmail.fr \nMerci de votre compréhension!!!
URL:http://avenirjudo31.fr/event/preparation-physique-3/
CATEGORIES:Benjamins,Cadets,Entrainements,Minimes
END:VEVENT
END:VCALENDAR