BEGIN:VCALENDAR
VERSION:2.0
PRODID:-//Avenir Judo 31 - ECPv6.14.1//NONSGML v1.0//EN
CALSCALE:GREGORIAN
METHOD:PUBLISH
X-ORIGINAL-URL:http://avenirjudo31.fr
X-WR-CALDESC:Évènements pour Avenir Judo 31
REFRESH-INTERVAL;VALUE=DURATION:PT1H
X-Robots-Tag:noindex
X-PUBLISHED-TTL:PT1H
BEGIN:VTIMEZONE
TZID:Europe/Paris
BEGIN:DAYLIGHT
TZOFFSETFROM:+0100
TZOFFSETTO:+0200
TZNAME:CEST
DTSTART:20150329T010000
END:DAYLIGHT
BEGIN:STANDARD
TZOFFSETFROM:+0200
TZOFFSETTO:+0100
TZNAME:CET
DTSTART:20151025T010000
END:STANDARD
END:VTIMEZONE
BEGIN:VEVENT
DTSTART;TZID=Europe/Paris:20151026T180000
DTEND;TZID=Europe/Paris:20151026T200000
DTSTAMP:20260423T154147
CREATED:20151015T081337Z
LAST-MODIFIED:20151020T231449Z
UID:5364-1445882400-1445889600@avenirjudo31.fr
SUMMARY:Préparation Physique
DESCRIPTION:POUR LES COMPÉTITEURS de BENJAMIN à JUNIOR \nRDV au gymnase du collège de l’Hers!! \nMerci de signaler votre présence par MAIL à Gérald au plus tard la veille. \ngerald.p.kodokan@hotmail.fr \nMerci de votre compréhension!!!
URL:http://avenirjudo31.fr/event/preparation-physique-18/
CATEGORIES:Benjamins,Cadets,Entrainements,Minimes
END:VEVENT
END:VCALENDAR