BEGIN:VCALENDAR
VERSION:2.0
PRODID:-//Avenir Judo 31 - ECPv6.14.1//NONSGML v1.0//EN
CALSCALE:GREGORIAN
METHOD:PUBLISH
X-WR-CALNAME:Avenir Judo 31
X-ORIGINAL-URL:http://avenirjudo31.fr
X-WR-CALDESC:Évènements pour Avenir Judo 31
REFRESH-INTERVAL;VALUE=DURATION:PT1H
X-Robots-Tag:noindex
X-PUBLISHED-TTL:PT1H
BEGIN:VTIMEZONE
TZID:Europe/Paris
BEGIN:DAYLIGHT
TZOFFSETFROM:+0100
TZOFFSETTO:+0200
TZNAME:CEST
DTSTART:20150329T010000
END:DAYLIGHT
BEGIN:STANDARD
TZOFFSETFROM:+0200
TZOFFSETTO:+0100
TZNAME:CET
DTSTART:20151025T010000
END:STANDARD
END:VTIMEZONE
BEGIN:VEVENT
DTSTART;TZID=Europe/Paris:20150501T100000
DTEND;TZID=Europe/Paris:20150503T180000
DTSTAMP:20260423T230441
CREATED:20150216T100959Z
LAST-MODIFIED:20150405T202541Z
UID:4908-1430474400-1430676000@avenirjudo31.fr
SUMMARY:Weekend Sportif des 1\, 2 et 3 mai 2015‏ Benjamins et Minimes compétiteurs.
DESCRIPTION:Bonjour\,\nEn préambule des 2 événements sportifs judo qui se dérouleront le dimanche 3 mai prochain :\nhttp://avenirjudo31.fr/event/tournoi-5-continents-benjamins-grisolles/\nhttp://avenirjudo31.fr/event/tournoi-regional-minime-foix/\nNous avons souhaité organiser un rassemblement sportif de nos compétiteurs Benjamins et Minimes.\nJ’avais repéré un gîte rural de grande capacité\, que je suis allée visiter vendredi après-midi.Voici le lien : http://www.grandsgites.com/gite-31-bel-air-243.htm\nIl correspond tout à fait à ce que nous recherchons en terme de capacité d’hébergement\, environnement en pleine nature et simplicité.\nNiveau distance\, il est à 40 minutes du quartier 31500 et sera à 30 minutes de Grisolles le dimanche matin pour les Benjamins.\nFoix est bien plus loin pour nos Minimes\, mais Gérald les covoiturera tous dans l’Espace du Club et est habitué des départs matinaux.\nAu programme de ces 3 jours :\n– Vendredi 1er mai \nRassemblement au gîte vers 11h30 (covoiturage possible à partir du Centre Jean Rieux pour les Benjamins\, mais nombre de places limité). Les Minimes seront tous covoiturés par Gérald.\nInstallation dans les chambres (prévoir sacs de couchage\, les draps/couvertures ne sont pas fournis).\nRepas en commun avec les parents qui auront participé au covoiturage et pourront passer l’après-midi sur place si ils le souhaitent.\nPrécision pour les repas : le gîte est équipé et nous permet de stocker la nourriture dans de grands réfrigérateurs. Nous pouvons également faire la cuisine ! Il sera demandé à chaque enfant d’apporter des denrées à mettre en commun et partager (salé\, sucré\, petits déjeuners\, etc …). Je m’occuperai de la coordination avec les parents 🙂\n14h30 : Uchi-Komi\nKumi-Kata\nFooting pour finir de suer\n16h : douche\n16h30 : goûter\n17h30 : jeux de société\, de cartes\, pétanque (merci à tout le monde d’apporter de quoi s’amuser en groupe\, ainsi que des boules de pétanque)\n18h30 : temps libre\n19h : repas\n20h30 : projection de films judo (quelqu’un aurait-il du matériel de video projection à nous prêter ?)\n22h30 : dodo pour tout le monde\n– Samedi 2 mai \n8h30 : réveil\n9h : petit-déjeuner\n10h30 : footing de réveil\n11h : étirements\n11h30 : douche\n12h : repas\n14h : séances vidéo sur les films des enfants récupérés auprès des parents\n15h30 : balade – gainage et étirements\n17h : goûter\n17h30 : réunion de préparation des déplacements sur les tournois du lendemain\n18h : rangement du gîte – douche\n18h30 : intervention technique – arbitrage et commissariat sportif\n19h : repas\n20h30 : videos judo\n21h30 : dodo pour tout le monde\n– Dimanche 3 mai\ndépart pour Lavelanet\, probablement vers 6h30 pour les Minimes et Gérald\n8h30 : les parents de certains Benjamins arrivent en renfort pour le covoiturage vers Grisolles\nCoût par enfant pour les 2 nuits dans le gîte : 25€.\nNous espérons que ce rassemblement vous séduira et que vos enfants seront présents tout le weekend.\n\nSportivement et amicalement\,\n\nChristine
URL:http://avenirjudo31.fr/event/weekend-sportif-1-2-3-mai-2015%e2%80%8f/
CATEGORIES:Benjamins,Minimes,Rdv incontournable
END:VEVENT
BEGIN:VEVENT
DTSTART;TZID=Europe/Paris:20150531T090000
DTEND;TZID=Europe/Paris:20150531T180000
DTSTAMP:20260423T230441
CREATED:20150307T060847Z
LAST-MODIFIED:20150307T060951Z
UID:4972-1433062800-1433095200@avenirjudo31.fr
SUMMARY:Rencontre Amicale de Quint Fonsegrives
DESCRIPTION:Programme
URL:http://avenirjudo31.fr/event/rencontre-amicale-quint-fonsegrives/
LOCATION:Dojo Gilles Morel Quint-Fonsegrives\, Quint-Fonsegrives\, 31130
CATEGORIES:Baby Judo,Benjamins,Cadets,Minimes,Minis-Poussins,Poussins,Rencontre amicale
END:VEVENT
END:VCALENDAR