BEGIN:VCALENDAR
VERSION:2.0
PRODID:-//Avenir Judo 31 - ECPv6.14.1//NONSGML v1.0//EN
CALSCALE:GREGORIAN
METHOD:PUBLISH
X-ORIGINAL-URL:http://avenirjudo31.fr
X-WR-CALDESC:Évènements pour Avenir Judo 31
REFRESH-INTERVAL;VALUE=DURATION:PT1H
X-Robots-Tag:noindex
X-PUBLISHED-TTL:PT1H
BEGIN:VTIMEZONE
TZID:Europe/Paris
BEGIN:DAYLIGHT
TZOFFSETFROM:+0100
TZOFFSETTO:+0200
TZNAME:CEST
DTSTART:20150329T010000
END:DAYLIGHT
BEGIN:STANDARD
TZOFFSETFROM:+0200
TZOFFSETTO:+0100
TZNAME:CET
DTSTART:20151025T010000
END:STANDARD
END:VTIMEZONE
BEGIN:VEVENT
DTSTART;TZID=Europe/Paris:20150304T140000
DTEND;TZID=Europe/Paris:20150304T180000
DTSTAMP:20260424T021533
CREATED:20150216T095031Z
LAST-MODIFIED:20150309T065726Z
UID:4906-1425477600-1425492000@avenirjudo31.fr
SUMMARY:« Mercredis de l’Equipe de France »
DESCRIPTION:Compte Rendu (Cliquez)
URL:http://avenirjudo31.fr/event/mercredis-lequipe-france/
CATEGORIES:Benjamins,Entrainements,Minimes,Minis-Poussins,Poussins,Rdv incontournable
END:VEVENT
BEGIN:VEVENT
DTSTART;TZID=Europe/Paris:20150329T080000
DTEND;TZID=Europe/Paris:20150329T170000
DTSTAMP:20260424T021533
CREATED:20141107T084727Z
LAST-MODIFIED:20150426T091133Z
UID:3997-1427616000-1427648400@avenirjudo31.fr
SUMMARY:Rencontre Amicale des Pradettes
DESCRIPTION:Résultats (Cliquez)
URL:http://avenirjudo31.fr/event/rencontre-amicale-pradettes/
CATEGORIES:Baby Judo,Benjamins,Minimes,Minis-Poussins,Poussins,Rencontre amicale
END:VEVENT
END:VCALENDAR